BEGIN:VCALENDAR
VERSION:2.0
PRODID:-//Puchar Polski Long Range Shooting - ECPv5.16.4//NONSGML v1.0//EN
CALSCALE:GREGORIAN
METHOD:PUBLISH
X-WR-CALNAME:Puchar Polski Long Range Shooting
X-ORIGINAL-URL:https://pplrs.pl
X-WR-CALDESC:Wydarzenia dla Puchar Polski Long Range Shooting
REFRESH-INTERVAL;VALUE=DURATION:PT1H
X-Robots-Tag:noindex
X-PUBLISHED-TTL:PT1H
BEGIN:VTIMEZONE
TZID:Europe/Warsaw
BEGIN:DAYLIGHT
TZOFFSETFROM:+0100
TZOFFSETTO:+0200
TZNAME:CEST
DTSTART:20260329T010000
END:DAYLIGHT
BEGIN:STANDARD
TZOFFSETFROM:+0200
TZOFFSETTO:+0100
TZNAME:CET
DTSTART:20261025T010000
END:STANDARD
END:VTIMEZONE
BEGIN:VEVENT
DTSTART;VALUE=DATE:20260425
DTEND;VALUE=DATE:20260426
DTSTAMP:20260421T092240
CREATED:20201117T182731Z
LAST-MODIFIED:20260116T120346Z
UID:1483-1777075200-1777161599@pplrs.pl
SUMMARY:Trening 25 kwietnia (sobota)
DESCRIPTION:
URL:https://pplrs.pl/event/trening-21-sierpnia-sobota/
LOCATION:Wojskowy Instytut Techniczny Uzbrojenia\, Wyszyńskiego 7\, Zielonka\, Mazowieckie\, 05-220\, Poland
ORGANIZER;CN="Team99%20Academy":MAILTO:team99@team99academy.eu
END:VEVENT
BEGIN:VEVENT
DTSTART;TZID=Europe/Warsaw:20260425T080000
DTEND;TZID=Europe/Warsaw:20260426T170000
DTSTAMP:20260421T092240
CREATED:20231213T081957Z
LAST-MODIFIED:20260116T120437Z
UID:3859-1777104000-1777222800@pplrs.pl
SUMMARY:Trening 25 kwietnia / 26 kwietnia (sobota / niedziela) - strzelanie na dystansach od 1000 do 2850m
DESCRIPTION:
URL:https://pplrs.pl/event/trening-18-maja-19-maja-sobota-niedziela-strzelanie-na-dystansach-od-2000-do-2850m/
ORGANIZER;CN="Team99%20Academy":MAILTO:team99@team99academy.eu
END:VEVENT
BEGIN:VEVENT
DTSTART;VALUE=DATE:20260516
DTEND;VALUE=DATE:20260517
DTSTAMP:20260421T092240
CREATED:20201117T182640Z
LAST-MODIFIED:20260116T120306Z
UID:1482-1778889600-1778975999@pplrs.pl
SUMMARY:Trening 16 maja (sobota)
DESCRIPTION:
URL:https://pplrs.pl/event/trening-24-lipca-sobota/
LOCATION:Wojskowy Instytut Techniczny Uzbrojenia\, Wyszyńskiego 7\, Zielonka\, Mazowieckie\, 05-220\, Poland
ORGANIZER;CN="Team99%20Academy":MAILTO:team99@team99academy.eu
END:VEVENT
BEGIN:VEVENT
DTSTART;VALUE=DATE:20260613
DTEND;VALUE=DATE:20260614
DTSTAMP:20260421T092240
CREATED:20201117T182551Z
LAST-MODIFIED:20260116T120234Z
UID:1480-1781308800-1781395199@pplrs.pl
SUMMARY:Trening 13 czerwca (sobota)
DESCRIPTION:
URL:https://pplrs.pl/event/trening-12-czerwca-sobota/
LOCATION:Wojskowy Instytut Techniczny Uzbrojenia\, Wyszyńskiego 7\, Zielonka\, Mazowieckie\, 05-220\, Poland
ORGANIZER;CN="Team99Academy":MAILTO:team99@team99.pl
END:VEVENT
BEGIN:VEVENT
DTSTART;VALUE=DATE:20260620
DTEND;VALUE=DATE:20260622
DTSTAMP:20260421T092240
CREATED:20201117T182234Z
LAST-MODIFIED:20251021T065900Z
UID:1476-1781913600-1782086399@pplrs.pl
SUMMARY:I RUNDA PUCHARU POLSKI OPEN 2026
DESCRIPTION:
URL:https://pplrs.pl/event/zastepczy-termin-dla-i-rundy-pucharu-polski-2021/
LOCATION:Wojskowy Instytut Techniczny Uzbrojenia\, Wyszyńskiego 7\, Zielonka\, Mazowieckie\, 05-220\, Poland
END:VEVENT
BEGIN:VEVENT
DTSTART;VALUE=DATE:20260725
DTEND;VALUE=DATE:20260726
DTSTAMP:20260421T092240
CREATED:20201117T180925Z
LAST-MODIFIED:20260116T120202Z
UID:1463-1784937600-1785023999@pplrs.pl
SUMMARY:Trening 25 lipca (sobota)
DESCRIPTION:
URL:https://pplrs.pl/event/trening-13-marca-sobota/
LOCATION:Wojskowy Instytut Techniczny Uzbrojenia\, Wyszyńskiego 7\, Zielonka\, Mazowieckie\, 05-220\, Poland
ORGANIZER;CN="Team99Academy":MAILTO:team99@team99.pl
END:VEVENT
BEGIN:VEVENT
DTSTART;VALUE=DATE:20260822
DTEND;VALUE=DATE:20260823
DTSTAMP:20260421T092240
CREATED:20230318T134101Z
LAST-MODIFIED:20260116T120135Z
UID:3281-1787356800-1787443199@pplrs.pl
SUMMARY:Trening 22 sierpnia (sobota)
DESCRIPTION:
URL:https://pplrs.pl/event/trening-6-maja-niedziela/
LOCATION:Wojskowy Instytut Techniczny Uzbrojenia\, Wyszyńskiego 7\, Zielonka\, Mazowieckie\, 05-220\, Poland
ORGANIZER;CN="Team99%20Academy":MAILTO:team99@team99academy.eu
END:VEVENT
BEGIN:VEVENT
DTSTART;VALUE=DATE:20260905
DTEND;VALUE=DATE:20260906
DTSTAMP:20260421T092240
CREATED:20231213T075746Z
LAST-MODIFIED:20260116T120117Z
UID:3841-1788566400-1788652799@pplrs.pl
SUMMARY:Trening 5 września (sobota)
DESCRIPTION:
URL:https://pplrs.pl/event/trening-28-kwietnia-niedziela/
LOCATION:Wojskowy Instytut Techniczny Uzbrojenia\, Wyszyńskiego 7\, Zielonka\, Mazowieckie\, 05-220\, Poland
ORGANIZER;CN="Team99%20Academy":MAILTO:team99@team99academy.eu
END:VEVENT
BEGIN:VEVENT
DTSTART;VALUE=DATE:20260912
DTEND;VALUE=DATE:20260914
DTSTAMP:20260421T092240
CREATED:20201117T183608Z
LAST-MODIFIED:20251021T065658Z
UID:1491-1789171200-1789343999@pplrs.pl
SUMMARY:II RUNDA PUCHARU POLSKI OPEN 2026
DESCRIPTION:
URL:https://pplrs.pl/event/ii-runda-pucharu-polski-2021/
LOCATION:Wojskowy Instytut Techniczny Uzbrojenia\, Wyszyńskiego 7\, Zielonka\, Mazowieckie\, 05-220\, Poland
END:VEVENT
BEGIN:VEVENT
DTSTART;VALUE=DATE:20260926
DTEND;VALUE=DATE:20260927
DTSTAMP:20260421T092240
CREATED:20221209T131931Z
LAST-MODIFIED:20260116T120101Z
UID:3157-1790380800-1790467199@pplrs.pl
SUMMARY:Trening 26 września (sobota)
DESCRIPTION:
URL:https://pplrs.pl/event/trening-15-kwietnia-sobota/
LOCATION:Wojskowy Instytut Techniczny Uzbrojenia\, Wyszyńskiego 7\, Zielonka\, Mazowieckie\, 05-220\, Poland
ORGANIZER;CN="Team99%20Academy":MAILTO:team99@team99academy.eu
END:VEVENT
BEGIN:VEVENT
DTSTART;VALUE=DATE:20260926
DTEND;VALUE=DATE:20260928
DTSTAMP:20260421T092240
CREATED:20201117T175248Z
LAST-MODIFIED:20260116T120815Z
UID:1453-1790380800-1790553599@pplrs.pl
SUMMARY:Trening 26 września / 27 września (sobota / niedziela) - strzelanie na dystansach od 1000 do 2850m
DESCRIPTION:
URL:https://pplrs.pl/event/trening-14-marca-niedziela/
LOCATION:Wojskowy Instytut Techniczny Uzbrojenia\, Wyszyńskiego 7\, Zielonka\, Mazowieckie\, 05-220\, Poland
ORGANIZER;CN="Team99%20Academy":MAILTO:team99@team99academy.eu
END:VEVENT
BEGIN:VEVENT
DTSTART;VALUE=DATE:20261213
DTEND;VALUE=DATE:20261214
DTSTAMP:20260421T092240
CREATED:20231006T131847Z
LAST-MODIFIED:20260116T120924Z
UID:2253-1797120000-1797206399@pplrs.pl
SUMMARY:ZAWODY MIKOŁAJKOWE (niedziela)
DESCRIPTION:
URL:https://pplrs.pl/event/trening-25-marca-sobota/
LOCATION:Wojskowy Instytut Techniczny Uzbrojenia\, Wyszyńskiego 7\, Zielonka\, Mazowieckie\, 05-220\, Poland
ORGANIZER;CN="Team99Academy":MAILTO:team99@team99.pl
END:VEVENT
END:VCALENDAR